BEGIN:VCALENDAR
VERSION:2.0
PRODID:-//Openwoodgate Preschool - ECPv6.15.14//NONSGML v1.0//EN
CALSCALE:GREGORIAN
METHOD:PUBLISH
X-WR-CALNAME:Openwoodgate Preschool
X-ORIGINAL-URL:https://openwoodgatepreschool.co.uk
X-WR-CALDESC:Events for Openwoodgate Preschool
REFRESH-INTERVAL;VALUE=DURATION:PT1H
X-Robots-Tag:noindex
X-PUBLISHED-TTL:PT1H
BEGIN:VTIMEZONE
TZID:Europe/London
BEGIN:DAYLIGHT
TZOFFSETFROM:+0000
TZOFFSETTO:+0100
TZNAME:BST
DTSTART:20250330T010000
END:DAYLIGHT
BEGIN:STANDARD
TZOFFSETFROM:+0100
TZOFFSETTO:+0000
TZNAME:GMT
DTSTART:20251026T010000
END:STANDARD
BEGIN:DAYLIGHT
TZOFFSETFROM:+0000
TZOFFSETTO:+0100
TZNAME:BST
DTSTART:20260329T010000
END:DAYLIGHT
BEGIN:STANDARD
TZOFFSETFROM:+0100
TZOFFSETTO:+0000
TZNAME:GMT
DTSTART:20261025T010000
END:STANDARD
BEGIN:DAYLIGHT
TZOFFSETFROM:+0000
TZOFFSETTO:+0100
TZNAME:BST
DTSTART:20270328T010000
END:DAYLIGHT
BEGIN:STANDARD
TZOFFSETFROM:+0100
TZOFFSETTO:+0000
TZNAME:GMT
DTSTART:20271031T010000
END:STANDARD
END:VTIMEZONE
BEGIN:VEVENT
DTSTART;TZID=Europe/London:20260422T120000
DTEND;TZID=Europe/London:20260422T153000
DTSTAMP:20260419T141033
CREATED:20260419T110003Z
LAST-MODIFIED:20260419T110003Z
UID:2400-1776859200-1776871800@openwoodgatepreschool.co.uk
SUMMARY:Woodland Session for School Starters
DESCRIPTION:We will be going on our monthly woodland session today with our children who are due to start school next year … we hope your child has an afternoon filled with adventure and makes memories to last them a lifetime!
URL:https://openwoodgatepreschool.co.uk/event/woodland-session-for-school-starters/
LOCATION:De
ORGANIZER;CN="Openwoodgate Preschool":MAILTO:info@openwoodgatepreschool.co.uk
END:VEVENT
BEGIN:VEVENT
DTSTART;TZID=Europe/London:20260423T140000
DTEND;TZID=Europe/London:20260423T150000
DTSTAMP:20260419T141033
CREATED:20260419T110710Z
LAST-MODIFIED:20260419T111138Z
UID:2408-1776952800-1776956400@openwoodgatepreschool.co.uk
SUMMARY:Football Session
DESCRIPTION:Today we have our weekly football session with Coach Ethan.  Time for lots of goal scoring and mastering those football skills whilst the children engage in lots of active learning\, developing their gross motor skills aswell as their hand eye coordination.
URL:https://openwoodgatepreschool.co.uk/event/football-session-2/
LOCATION:Openwoodgate Preschool\, St Mark’s Church Hall\, Over Lane\, Opewoodgate\, Belper\, De\, DE56 0SD\, United Kingdom
ORGANIZER;CN="Openwoodgate Preschool":MAILTO:info@openwoodgatepreschool.co.uk
END:VEVENT
BEGIN:VEVENT
DTSTART;TZID=Europe/London:20260430T140000
DTEND;TZID=Europe/London:20260430T150000
DTSTAMP:20260419T141033
CREATED:20260419T110800Z
LAST-MODIFIED:20260419T111326Z
UID:2410-1777557600-1777561200@openwoodgatepreschool.co.uk
SUMMARY:Football Session
DESCRIPTION:Today we have our weekly football session with Coach Ethan.  Time for lots of goal scoring and mastering those football skills whilst the children engage in lots of active learning\, developing their gross motor skills aswell as their hand eye coordination.
URL:https://openwoodgatepreschool.co.uk/event/football-session-3/
LOCATION:Openwoodgate Preschool\, St Mark’s Church Hall\, Over Lane\, Opewoodgate\, Belper\, De\, DE56 0SD\, United Kingdom
ORGANIZER;CN="Openwoodgate Preschool":MAILTO:info@openwoodgatepreschool.co.uk
END:VEVENT
BEGIN:VEVENT
DTSTART;TZID=Europe/London:20260506T140000
DTEND;TZID=Europe/London:20260506T150000
DTSTAMP:20260419T141033
CREATED:20260419T111824Z
LAST-MODIFIED:20260419T111824Z
UID:2421-1778076000-1778079600@openwoodgatepreschool.co.uk
SUMMARY:PE Session for School Starters
DESCRIPTION:We will be holding our monthly PE session this afternoon\, helping our children develop practical skills such as getting changed independently and engaging in lots of active learning aswell as having fun! \nPlease remember to send a change of clothes and trainers or PE pumps for your child if possible.
URL:https://openwoodgatepreschool.co.uk/event/pe-session-for-school-starters-2/
LOCATION:Openwoodgate Preschool\, St Mark’s Church Hall\, Over Lane\, Opewoodgate\, Belper\, De\, DE56 0SD\, United Kingdom
ORGANIZER;CN="Openwoodgate Preschool":MAILTO:info@openwoodgatepreschool.co.uk
END:VEVENT
BEGIN:VEVENT
DTSTART;TZID=Europe/London:20260507T140000
DTEND;TZID=Europe/London:20260507T150000
DTSTAMP:20260419T141033
CREATED:20260419T110855Z
LAST-MODIFIED:20260419T111408Z
UID:2412-1778162400-1778166000@openwoodgatepreschool.co.uk
SUMMARY:Football Session
DESCRIPTION:Today we have our weekly football session with Coach Ethan.  Time for lots of goal scoring and mastering those football skills whilst the children engage in lots of active learning\, developing their gross motor skills aswell as their hand eye coordination.
URL:https://openwoodgatepreschool.co.uk/event/football-session-4/
LOCATION:Openwoodgate Preschool\, St Mark’s Church Hall\, Over Lane\, Opewoodgate\, Belper\, De\, DE56 0SD\, United Kingdom
ORGANIZER;CN="Openwoodgate Preschool":MAILTO:info@openwoodgatepreschool.co.uk
END:VEVENT
BEGIN:VEVENT
DTSTART;TZID=Europe/London:20260509T133000
DTEND;TZID=Europe/London:20260509T150000
DTSTAMP:20260419T141033
CREATED:20260419T102635Z
LAST-MODIFIED:20260419T102635Z
UID:2381-1778333400-1778338800@openwoodgatepreschool.co.uk
SUMMARY:Summer Fair and Open Day 2026
DESCRIPTION:We will be holding our annual Summer Fair on Saturday 9th May 2026.  This will run alongside our annual Open Day  and will be for new starters to come and see the setting over the summer and have a little play.  All of our wonderful existing children can also come and have a play too! \nThere will be lots of activities and games etc for the children throughout the day\, including: \n\nbouncy castle\ngames\nfood and drinks\nactivities\nentertainment\nstay and play session and a chance to look around our amazing preschool!\n\nWe would love to see you there!
URL:https://openwoodgatepreschool.co.uk/event/summer-fair-and-open-day-2026/
LOCATION:Openwoodgate Preschool\, St Mark’s Church Hall\, Over Lane\, Opewoodgate\, Belper\, De\, DE56 0SD\, United Kingdom
ORGANIZER;CN="Openwoodgate Preschool":MAILTO:info@openwoodgatepreschool.co.uk
END:VEVENT
BEGIN:VEVENT
DTSTART;TZID=Europe/London:20260514T140000
DTEND;TZID=Europe/London:20260514T150000
DTSTAMP:20260419T141033
CREATED:20260419T111429Z
LAST-MODIFIED:20260419T111429Z
UID:2415-1778767200-1778770800@openwoodgatepreschool.co.uk
SUMMARY:Football Session
DESCRIPTION:Today we have our weekly football session with Coach Ethan.  Time for lots of goal scoring and mastering those football skills whilst the children engage in lots of active learning\, developing their gross motor skills aswell as their hand eye coordination.
URL:https://openwoodgatepreschool.co.uk/event/football-session-5/
LOCATION:Openwoodgate Preschool\, St Mark’s Church Hall\, Over Lane\, Opewoodgate\, Belper\, De\, DE56 0SD\, United Kingdom
ORGANIZER;CN="Openwoodgate Preschool":MAILTO:info@openwoodgatepreschool.co.uk
END:VEVENT
BEGIN:VEVENT
DTSTART;TZID=Europe/London:20260520T120000
DTEND;TZID=Europe/London:20260520T150000
DTSTAMP:20260419T141033
CREATED:20260419T110103Z
LAST-MODIFIED:20260419T110103Z
UID:2402-1779278400-1779289200@openwoodgatepreschool.co.uk
SUMMARY:Woodland Session for School Starters
DESCRIPTION:We will be going on our monthly woodland session today with our children who are due to start school next year … we hope your child has an afternoon filled with adventure and makes memories to last them a lifetime!
URL:https://openwoodgatepreschool.co.uk/event/woodland-session-for-school-starters-2/
LOCATION:De
ORGANIZER;CN="Openwoodgate Preschool":MAILTO:info@openwoodgatepreschool.co.uk
END:VEVENT
BEGIN:VEVENT
DTSTART;TZID=Europe/London:20260521T140000
DTEND;TZID=Europe/London:20260521T150000
DTSTAMP:20260419T141033
CREATED:20260419T111448Z
LAST-MODIFIED:20260419T111448Z
UID:2417-1779372000-1779375600@openwoodgatepreschool.co.uk
SUMMARY:Football Session
DESCRIPTION:Today we have our weekly football session with Coach Ethan.  Time for lots of goal scoring and mastering those football skills whilst the children engage in lots of active learning\, developing their gross motor skills aswell as their hand eye coordination.
URL:https://openwoodgatepreschool.co.uk/event/football-session-6/
LOCATION:Openwoodgate Preschool\, St Mark’s Church Hall\, Over Lane\, Opewoodgate\, Belper\, De\, DE56 0SD\, United Kingdom
ORGANIZER;CN="Openwoodgate Preschool":MAILTO:info@openwoodgatepreschool.co.uk
END:VEVENT
BEGIN:VEVENT
DTSTART;VALUE=DATE:20260601
DTEND;VALUE=DATE:20260602
DTSTAMP:20260419T141033
CREATED:20260419T103341Z
LAST-MODIFIED:20260419T103341Z
UID:2387-1780272000-1780358399@openwoodgatepreschool.co.uk
SUMMARY:End of Year Photographs
DESCRIPTION:A professional photographer will be in setting on Monday 1st June to take end of year photographs of your children.  More details to follow on Tapestry …
URL:https://openwoodgatepreschool.co.uk/event/end-of-year-photographs/
LOCATION:Openwoodgate Preschool\, St Mark’s Church Hall\, Over Lane\, Opewoodgate\, Belper\, De\, DE56 0SD\, United Kingdom
ORGANIZER;CN="Openwoodgate Preschool":MAILTO:info@openwoodgatepreschool.co.uk
END:VEVENT
BEGIN:VEVENT
DTSTART;TZID=Europe/London:20260601T091500
DTEND;TZID=Europe/London:20260601T100000
DTSTAMP:20260419T141033
CREATED:20260419T112142Z
LAST-MODIFIED:20260419T112757Z
UID:2427-1780305300-1780308000@openwoodgatepreschool.co.uk
SUMMARY:Little Bear Dance Class
DESCRIPTION:We will be enjoying a visit today from Miss Michelle and Melody Bear\, learning some dances and having lots of fun together!
URL:https://openwoodgatepreschool.co.uk/event/little-bear-dance-class/
LOCATION:Openwoodgate Preschool\, St Mark’s Church Hall\, Over Lane\, Opewoodgate\, Belper\, De\, DE56 0SD\, United Kingdom
ORGANIZER;CN="Openwoodgate Preschool":MAILTO:info@openwoodgatepreschool.co.uk
END:VEVENT
BEGIN:VEVENT
DTSTART;TZID=Europe/London:20260603T140000
DTEND;TZID=Europe/London:20260603T150000
DTSTAMP:20260419T141033
CREATED:20260419T111843Z
LAST-MODIFIED:20260419T111843Z
UID:2423-1780495200-1780498800@openwoodgatepreschool.co.uk
SUMMARY:PE Session for School Starters
DESCRIPTION:We will be holding our monthly PE session this afternoon\, helping our children develop practical skills such as getting changed independently and engaging in lots of active learning aswell as having fun! \nPlease remember to send a change of clothes and trainers or PE pumps for your child if possible.
URL:https://openwoodgatepreschool.co.uk/event/pe-session-for-school-starters-3/
LOCATION:Openwoodgate Preschool\, St Mark’s Church Hall\, Over Lane\, Opewoodgate\, Belper\, De\, DE56 0SD\, United Kingdom
ORGANIZER;CN="Openwoodgate Preschool":MAILTO:info@openwoodgatepreschool.co.uk
END:VEVENT
BEGIN:VEVENT
DTSTART;TZID=Europe/London:20260608T091500
DTEND;TZID=Europe/London:20260608T100000
DTSTAMP:20260419T141033
CREATED:20260419T112204Z
LAST-MODIFIED:20260419T112730Z
UID:2429-1780910100-1780912800@openwoodgatepreschool.co.uk
SUMMARY:Little Bear Dance Class
DESCRIPTION:We will be enjoying a visit today from Miss Michelle and Melody Bear\, learning some dances and having lots of fun together!
URL:https://openwoodgatepreschool.co.uk/event/little-bear-dance-class-2/
LOCATION:Openwoodgate Preschool\, St Mark’s Church Hall\, Over Lane\, Opewoodgate\, Belper\, De\, DE56 0SD\, United Kingdom
ORGANIZER;CN="Openwoodgate Preschool":MAILTO:info@openwoodgatepreschool.co.uk
END:VEVENT
BEGIN:VEVENT
DTSTART;TZID=Europe/London:20260615T091500
DTEND;TZID=Europe/London:20260615T100000
DTSTAMP:20260419T141033
CREATED:20260419T112226Z
LAST-MODIFIED:20260419T112704Z
UID:2431-1781514900-1781517600@openwoodgatepreschool.co.uk
SUMMARY:Little Bear Dance Class
DESCRIPTION:We will be enjoying a visit today from Miss Michelle and Melody Bear\, learning some dances and having lots of fun together!
URL:https://openwoodgatepreschool.co.uk/event/little-bear-dance-class-3/
LOCATION:Openwoodgate Preschool\, St Mark’s Church Hall\, Over Lane\, Opewoodgate\, Belper\, De\, DE56 0SD\, United Kingdom
ORGANIZER;CN="Openwoodgate Preschool":MAILTO:info@openwoodgatepreschool.co.uk
END:VEVENT
BEGIN:VEVENT
DTSTART;TZID=Europe/London:20260617T120000
DTEND;TZID=Europe/London:20260617T150000
DTSTAMP:20260419T141033
CREATED:20260419T110148Z
LAST-MODIFIED:20260419T110148Z
UID:2404-1781697600-1781708400@openwoodgatepreschool.co.uk
SUMMARY:Woodland Session for School Starters
DESCRIPTION:We will be going on our monthly woodland session today with our children who are due to start school next year … we hope your child has an afternoon filled with adventure and makes memories to last them a lifetime!
URL:https://openwoodgatepreschool.co.uk/event/woodland-session-for-school-starters-3/
LOCATION:De
ORGANIZER;CN="Openwoodgate Preschool":MAILTO:info@openwoodgatepreschool.co.uk
END:VEVENT
BEGIN:VEVENT
DTSTART;TZID=Europe/London:20260619T140000
DTEND;TZID=Europe/London:20260619T150000
DTSTAMP:20260419T141033
CREATED:20260419T103145Z
LAST-MODIFIED:20260419T103145Z
UID:2383-1781877600-1781881200@openwoodgatepreschool.co.uk
SUMMARY:Fathers Day Stay and Play
DESCRIPTION:Calling all Daddy’s\, Grandpas or any other special person in your childs life 🙂 \nYou are invited to come and join in our special stay and play session to celebrate Fathers Day! \nMore details and times will be confirmed  on Tapestry soon …
URL:https://openwoodgatepreschool.co.uk/event/fathers-day-stay-and-play/
LOCATION:Openwoodgate Preschool\, St Mark’s Church Hall\, Over Lane\, Opewoodgate\, Belper\, De\, DE56 0SD\, United Kingdom
ORGANIZER;CN="Openwoodgate Preschool":MAILTO:info@openwoodgatepreschool.co.uk
END:VEVENT
BEGIN:VEVENT
DTSTART;TZID=Europe/London:20260623T140000
DTEND;TZID=Europe/London:20260623T150000
DTSTAMP:20260419T141033
CREATED:20260419T103224Z
LAST-MODIFIED:20260419T103224Z
UID:2385-1782223200-1782226800@openwoodgatepreschool.co.uk
SUMMARY:Fathers Day Stay and Play
DESCRIPTION:Calling all Daddy’s\, Grandpas or any other special person in your childs life 🙂 \nYou are invited to come and join in our special stay and play session to celebrate Fathers Day! \nMore details and times will be confirmed  on Tapestry soon …
URL:https://openwoodgatepreschool.co.uk/event/fathers-day-stay-and-play-2/
LOCATION:Openwoodgate Preschool\, St Mark’s Church Hall\, Over Lane\, Opewoodgate\, Belper\, De\, DE56 0SD\, United Kingdom
ORGANIZER;CN="Openwoodgate Preschool":MAILTO:info@openwoodgatepreschool.co.uk
END:VEVENT
BEGIN:VEVENT
DTSTART;TZID=Europe/London:20260629T091500
DTEND;TZID=Europe/London:20260629T100000
DTSTAMP:20260419T141033
CREATED:20260419T112309Z
LAST-MODIFIED:20260419T112638Z
UID:2433-1782724500-1782727200@openwoodgatepreschool.co.uk
SUMMARY:Little Bear Dance Class
DESCRIPTION:We will be enjoying a visit today from Miss Michelle and Melody Bear\, learning some dances and having lots of fun together!
URL:https://openwoodgatepreschool.co.uk/event/little-bear-dance-class-4/
LOCATION:Openwoodgate Preschool\, St Mark’s Church Hall\, Over Lane\, Opewoodgate\, Belper\, De\, DE56 0SD\, United Kingdom
ORGANIZER;CN="Openwoodgate Preschool":MAILTO:info@openwoodgatepreschool.co.uk
END:VEVENT
BEGIN:VEVENT
DTSTART;TZID=Europe/London:20260701T140000
DTEND;TZID=Europe/London:20260701T150000
DTSTAMP:20260419T141033
CREATED:20260419T103644Z
LAST-MODIFIED:20260419T103644Z
UID:2389-1782914400-1782918000@openwoodgatepreschool.co.uk
SUMMARY:Sports Day 2026
DESCRIPTION:We will be holding our annual Sports Day on Wednesday 1st July in the afternoon\, weather permitting of course!  More details are to follow …
URL:https://openwoodgatepreschool.co.uk/event/sports-day-2026/
LOCATION:De
ORGANIZER;CN="Openwoodgate Preschool":MAILTO:info@openwoodgatepreschool.co.uk
END:VEVENT
BEGIN:VEVENT
DTSTART;TZID=Europe/London:20260706T091500
DTEND;TZID=Europe/London:20260706T100000
DTSTAMP:20260419T141033
CREATED:20260419T112331Z
LAST-MODIFIED:20260419T112555Z
UID:2435-1783329300-1783332000@openwoodgatepreschool.co.uk
SUMMARY:Little Bear Dance Class
DESCRIPTION:We will be enjoying a visit today from Miss Michelle and Melody Bear\, learning some dances and having lots of fun together!
URL:https://openwoodgatepreschool.co.uk/event/little-bear-dance-class-5/
LOCATION:Openwoodgate Preschool\, St Mark’s Church Hall\, Over Lane\, Opewoodgate\, Belper\, De\, DE56 0SD\, United Kingdom
ORGANIZER;CN="Openwoodgate Preschool":MAILTO:info@openwoodgatepreschool.co.uk
END:VEVENT
BEGIN:VEVENT
DTSTART;VALUE=DATE:20260713
DTEND;VALUE=DATE:20260714
DTSTAMP:20260419T141033
CREATED:20260419T103829Z
LAST-MODIFIED:20260419T103829Z
UID:2391-1783900800-1783987199@openwoodgatepreschool.co.uk
SUMMARY:Fire Engine Visit
DESCRIPTION:We will be having some real life firefighters come to preschool with their big red fire engine!  The children will learn all about firemen and fire engines and will even get chance to have a sit behind the wheel! \nMore details will follow …
URL:https://openwoodgatepreschool.co.uk/event/fire-engine-visit/
LOCATION:Openwoodgate Preschool\, St Mark’s Church Hall\, Over Lane\, Opewoodgate\, Belper\, De\, DE56 0SD\, United Kingdom
ORGANIZER;CN="Openwoodgate Preschool":MAILTO:info@openwoodgatepreschool.co.uk
END:VEVENT
BEGIN:VEVENT
DTSTART;TZID=Europe/London:20260722T000000
DTEND;TZID=Europe/London:20260722T000000
DTSTAMP:20260419T141033
CREATED:20260419T105134Z
LAST-MODIFIED:20260419T105134Z
UID:2397-1784678400-1784678400@openwoodgatepreschool.co.uk
SUMMARY:Graduation - School Leavers 2026
DESCRIPTION:Our lovely school leavers\, who we are going to miss so so much\, will be having their Graduation Day on Wednesday 22nd July.  This promises to be a lovely day for the children and their parents/carers … tissues are advised. \nMore details are to follow …
URL:https://openwoodgatepreschool.co.uk/event/graduation-school-leavers-2026/
LOCATION:Openwoodgate Preschool\, St Mark’s Church Hall\, Over Lane\, Opewoodgate\, Belper\, De\, DE56 0SD\, United Kingdom
ORGANIZER;CN="Openwoodgate Preschool":MAILTO:info@openwoodgatepreschool.co.uk
END:VEVENT
BEGIN:VEVENT
DTSTART;TZID=Europe/London:20260723T131500
DTEND;TZID=Europe/London:20260723T131500
DTSTAMP:20260419T141033
CREATED:20260419T104138Z
LAST-MODIFIED:20260419T104600Z
UID:2393-1784812500-1784812500@openwoodgatepreschool.co.uk
SUMMARY:Emma's Icecream Visit
DESCRIPTION:We are very excited to announce that Emmas icecream van will be visiting preschool!  She’s due to arrive at 1:15pm. \nAll children will have the chance to have an icecream or lolly\, and if your child is not usually in setting that day please feel free to bring them along to get their sweet treat 🙂 \nMore details will follow …
URL:https://openwoodgatepreschool.co.uk/event/emmas-icecream-visit/
LOCATION:Openwoodgate Preschool\, St Mark’s Church Hall\, Over Lane\, Opewoodgate\, Belper\, De\, DE56 0SD\, United Kingdom
ORGANIZER;CN="Openwoodgate Preschool":MAILTO:info@openwoodgatepreschool.co.uk
END:VEVENT
END:VCALENDAR