BEGIN:VCALENDAR
VERSION:2.0
PRODID:-//Openwoodgate Preschool - ECPv6.15.14//NONSGML v1.0//EN
CALSCALE:GREGORIAN
METHOD:PUBLISH
X-WR-CALNAME:Openwoodgate Preschool
X-ORIGINAL-URL:https://openwoodgatepreschool.co.uk
X-WR-CALDESC:Events for Openwoodgate Preschool
REFRESH-INTERVAL;VALUE=DURATION:PT1H
X-Robots-Tag:noindex
X-PUBLISHED-TTL:PT1H
BEGIN:VTIMEZONE
TZID:Europe/London
BEGIN:DAYLIGHT
TZOFFSETFROM:+0000
TZOFFSETTO:+0100
TZNAME:BST
DTSTART:20240331T010000
END:DAYLIGHT
BEGIN:STANDARD
TZOFFSETFROM:+0100
TZOFFSETTO:+0000
TZNAME:GMT
DTSTART:20241027T010000
END:STANDARD
BEGIN:DAYLIGHT
TZOFFSETFROM:+0000
TZOFFSETTO:+0100
TZNAME:BST
DTSTART:20250330T010000
END:DAYLIGHT
BEGIN:STANDARD
TZOFFSETFROM:+0100
TZOFFSETTO:+0000
TZNAME:GMT
DTSTART:20251026T010000
END:STANDARD
BEGIN:DAYLIGHT
TZOFFSETFROM:+0000
TZOFFSETTO:+0100
TZNAME:BST
DTSTART:20260329T010000
END:DAYLIGHT
BEGIN:STANDARD
TZOFFSETFROM:+0100
TZOFFSETTO:+0000
TZNAME:GMT
DTSTART:20261025T010000
END:STANDARD
END:VTIMEZONE
BEGIN:VEVENT
DTSTART;VALUE=DATE:20250705
DTEND;VALUE=DATE:20250706
DTSTAMP:20260420T071205
CREATED:20250223T171614Z
LAST-MODIFIED:20250223T171614Z
UID:2207-1751673600-1751759999@openwoodgatepreschool.co.uk
SUMMARY:Open day/Summer Fete - Date TBC
DESCRIPTION:Open day/Summer Fete – Date TBC
URL:https://openwoodgatepreschool.co.uk/event/open-day-summer-fete-date-tbc/
LOCATION:Openwoodgate Preschool\, St Mark’s Church Hall\, Over Lane\, Opewoodgate\, Belper\, De\, DE56 0SD\, United Kingdom
CATEGORIES:Community,Outreach
ORGANIZER;CN="Openwoodgate Preschool":MAILTO:info@openwoodgatepreschool.co.uk
END:VEVENT
END:VCALENDAR